BEGIN:VCALENDAR
VERSION:2.0
PRODID:-//Swim England West Midlands - ECPv6.15.20//NONSGML v1.0//EN
CALSCALE:GREGORIAN
METHOD:PUBLISH
X-WR-CALNAME:Swim England West Midlands
X-ORIGINAL-URL:https://westmidlandswimming.org.uk
X-WR-CALDESC:Events for Swim England West Midlands
REFRESH-INTERVAL;VALUE=DURATION:PT1H
X-Robots-Tag:noindex
X-PUBLISHED-TTL:PT1H
BEGIN:VTIMEZONE
TZID:Europe/London
BEGIN:DAYLIGHT
TZOFFSETFROM:+0000
TZOFFSETTO:+0100
TZNAME:BST
DTSTART:20240331T010000
END:DAYLIGHT
BEGIN:STANDARD
TZOFFSETFROM:+0100
TZOFFSETTO:+0000
TZNAME:GMT
DTSTART:20241027T010000
END:STANDARD
BEGIN:DAYLIGHT
TZOFFSETFROM:+0000
TZOFFSETTO:+0100
TZNAME:BST
DTSTART:20250330T010000
END:DAYLIGHT
BEGIN:STANDARD
TZOFFSETFROM:+0100
TZOFFSETTO:+0000
TZNAME:GMT
DTSTART:20251026T010000
END:STANDARD
BEGIN:DAYLIGHT
TZOFFSETFROM:+0000
TZOFFSETTO:+0100
TZNAME:BST
DTSTART:20260329T010000
END:DAYLIGHT
BEGIN:STANDARD
TZOFFSETFROM:+0100
TZOFFSETTO:+0000
TZNAME:GMT
DTSTART:20261025T010000
END:STANDARD
BEGIN:DAYLIGHT
TZOFFSETFROM:+0000
TZOFFSETTO:+0100
TZNAME:BST
DTSTART:20270328T010000
END:DAYLIGHT
BEGIN:STANDARD
TZOFFSETFROM:+0100
TZOFFSETTO:+0000
TZNAME:GMT
DTSTART:20271031T010000
END:STANDARD
END:VTIMEZONE
BEGIN:VEVENT
DTSTART;TZID=Europe/London:20260328T143000
DTEND;TZID=Europe/London:20260328T200000
DTSTAMP:20260424T165212
CREATED:20251120T115437Z
LAST-MODIFIED:20260326T155914Z
UID:13717-1774708200-1774728000@westmidlandswimming.org.uk
SUMMARY:Swim England Midlands Artistic Swimming Championships 2026
DESCRIPTION:Timetable – NEW \n 
URL:https://westmidlandswimming.org.uk/event/midlands-artistic-swimming-championships/
LOCATION:Harvey Hadden Leisure Centre\, Harvey Hadden Leisure Centre\, United Kingdom
CATEGORIES:Artistic Swimming Competition
ATTACH;FMTTYPE=image/jpeg:https://westmidlandswimming.org.uk/wp-content/uploads/2024/12/isabelle_thorpe_solo_nationals_2017.jpg
END:VEVENT
BEGIN:VEVENT
DTSTART;TZID=Europe/London:20250405T000000
DTEND;TZID=Europe/London:20250405T235959
DTSTAMP:20260424T165212
CREATED:20250227T143625Z
LAST-MODIFIED:20250227T143959Z
UID:13049-1743811200-1743897599@westmidlandswimming.org.uk
SUMMARY:Midlands Artistic Swimming Championships and Masters 2025
DESCRIPTION:This is open to all swimmers age 15+ that hold a figure and routine grade 4 and above for Championships and there is no grade requirement for Masters. We have 7 events for Championships and 4 events for Masters. \nChampionships compete in free and tech solo\, free and tech duet\, free team\, tech team and acro team. \nMasters compete in tech solo\, tech duet\, tech team and combination team. \n 
URL:https://westmidlandswimming.org.uk/event/midlands-artistic-swimming-championships-and-masters-2025/
CATEGORIES:Artistic Swimming Competition
ATTACH;FMTTYPE=image/jpeg:https://westmidlandswimming.org.uk/wp-content/uploads/2024/12/isabelle_thorpe_solo_nationals_2017.jpg
ORGANIZER;CN="Swim England Midland Regions":MAILTO:midlands@swimming.org
END:VEVENT
BEGIN:VEVENT
DTSTART;TZID=Europe/London:20250301T000000
DTEND;TZID=Europe/London:20250301T235959
DTSTAMP:20260424T165212
CREATED:20250227T144119Z
LAST-MODIFIED:20250227T144119Z
UID:13051-1740787200-1740873599@westmidlandswimming.org.uk
SUMMARY:Midlands Artistic Swimming Age Group Championships 2025
DESCRIPTION:This is open to all swimmers age 9 and over in 2025. There will be 5 events in total. Figures\, Solo\, Duet and Free team all are either 12 and under or 13-15 for age categories. The Combination team event has 5 age categories. 12u\, 13-15\, 13-18\, 15u and 15 plus.
URL:https://westmidlandswimming.org.uk/event/midlands-artistic-swimming-age-group-championships-2025-2/
CATEGORIES:Artistic Swimming Competition
ATTACH;FMTTYPE=image/jpeg:https://westmidlandswimming.org.uk/wp-content/uploads/2024/12/isabelle_thorpe_solo_nationals_2017.jpg
ORGANIZER;CN="Swim England Midland Regions":MAILTO:midlands@swimming.org
END:VEVENT
END:VCALENDAR