BEGIN:VCALENDAR
VERSION:2.0
PRODID:-//Swim England West Midlands - ECPv6.15.20//NONSGML v1.0//EN
CALSCALE:GREGORIAN
METHOD:PUBLISH
X-WR-CALNAME:Swim England West Midlands
X-ORIGINAL-URL:https://westmidlandswimming.org.uk
X-WR-CALDESC:Events for Swim England West Midlands
REFRESH-INTERVAL;VALUE=DURATION:PT1H
X-Robots-Tag:noindex
X-PUBLISHED-TTL:PT1H
BEGIN:VTIMEZONE
TZID:Europe/London
BEGIN:DAYLIGHT
TZOFFSETFROM:+0000
TZOFFSETTO:+0100
TZNAME:BST
DTSTART:20230326T010000
END:DAYLIGHT
BEGIN:STANDARD
TZOFFSETFROM:+0100
TZOFFSETTO:+0000
TZNAME:GMT
DTSTART:20231029T010000
END:STANDARD
BEGIN:DAYLIGHT
TZOFFSETFROM:+0000
TZOFFSETTO:+0100
TZNAME:BST
DTSTART:20240331T010000
END:DAYLIGHT
BEGIN:STANDARD
TZOFFSETFROM:+0100
TZOFFSETTO:+0000
TZNAME:GMT
DTSTART:20241027T010000
END:STANDARD
BEGIN:DAYLIGHT
TZOFFSETFROM:+0000
TZOFFSETTO:+0100
TZNAME:BST
DTSTART:20250330T010000
END:DAYLIGHT
BEGIN:STANDARD
TZOFFSETFROM:+0100
TZOFFSETTO:+0000
TZNAME:GMT
DTSTART:20251026T010000
END:STANDARD
BEGIN:DAYLIGHT
TZOFFSETFROM:+0000
TZOFFSETTO:+0100
TZNAME:BST
DTSTART:20260329T010000
END:DAYLIGHT
BEGIN:STANDARD
TZOFFSETFROM:+0100
TZOFFSETTO:+0000
TZNAME:GMT
DTSTART:20261025T010000
END:STANDARD
END:VTIMEZONE
BEGIN:VEVENT
DTSTART;TZID=Europe/London:20250112T000000
DTEND;TZID=Europe/London:20250615T235959
DTSTAMP:20260422T184015
CREATED:20240918T141634Z
LAST-MODIFIED:20250325T125253Z
UID:12294-1736640000-1750031999@westmidlandswimming.org.uk
SUMMARY:Swim England Midlands Para-Swimming Training Sessions 2024-25
DESCRIPTION:We are excited to announce the return of our para-swimming training sessions for the 2024-2025 season. \nThe sessions are designed to develop the skills of para-swimmers from the East and West Midlands\, providing expert coaching and an opportunity to be signed off for classification. The programme also supports our coaches in furthering their experience and knowledge in para-swimming\, bettering their delivery in their clubs and on the Swim England pathways. \n Dates: \n\nSunday 12th January\nSunday 16th March\nSunday 15th June\n\n Timings: \n\n11:00am Arrival\n11:30am Strength & Conditioning\n1:00pm Pool Session\n3:00pm Approx end\n\n Location: \n\nThe Queens Diamond Jubilee Centre\, Rugby.\n\n Cost: \n\n£45 for all 3 sessions (survey and payment due by 5th January 11:59pm)\n\n  Swimmer sign-up\n Eligibility criteria \nCoaches who wish to observe should email midlands@swimming.org for approval.
URL:https://westmidlandswimming.org.uk/event/swim-england-midlands-para-swimming-training-sessions-2024-25/
LOCATION:Queens Diamond Jubilee Centre\, Rugby\, Queens Diamond Jubilee Centre\, Rugby\, United Kingdom
CATEGORIES:Athlete Development,Swimming Development
ATTACH;FMTTYPE=image/jpeg:https://westmidlandswimming.org.uk/wp-content/uploads/2024/09/Camp-3-staff-scaled-e1726669187823.jpg
ORGANIZER;CN="Swim England Midland Regions":MAILTO:midlands@swimming.org
END:VEVENT
BEGIN:VEVENT
DTSTART;TZID=Europe/London:20241221T000000
DTEND;TZID=Europe/London:20250614T235959
DTSTAMP:20260422T184015
CREATED:20240905T152929Z
LAST-MODIFIED:20241029T141803Z
UID:12225-1734739200-1749945599@westmidlandswimming.org.uk
SUMMARY:Swim England West Midland Development Programmes 2024-25
DESCRIPTION:We are excited to announce the return of the Regional Development Programme (RDP)\, as well as the launch of the Regional Distance Development Programme (RDDP). \nCongratulations to everyone selected for the programme\, you can find all the swimmers and staff here. \nYou can find out more information about the programme aims on the website\, here. \n\nRDP & RDDP Camp 1: Saturday the 21st December 2024\nRDP & RDDP Camp 2: Saturday 22nd March 2025\nRDP Camp 3: Saturday 14th June 2025\nRDDP Camp 3: TBC\n\nFind our para-swimming training session information here.
URL:https://westmidlandswimming.org.uk/event/swim-england-west-midland-development-programmes/
CATEGORIES:Athlete Development,Swimming Development
ATTACH;FMTTYPE=image/jpeg:https://westmidlandswimming.org.uk/wp-content/uploads/2024/07/WM1A2271-scaled-e1725552013199.jpg
ORGANIZER;CN="Swim England West Midlands":MAILTO:westmidland@swimming.org
END:VEVENT
END:VCALENDAR