BEGIN:VCALENDAR
VERSION:2.0
PRODID:-//Swim England West Midlands - ECPv6.15.20//NONSGML v1.0//EN
CALSCALE:GREGORIAN
METHOD:PUBLISH
X-WR-CALNAME:Swim England West Midlands
X-ORIGINAL-URL:https://westmidlandswimming.org.uk
X-WR-CALDESC:Events for Swim England West Midlands
REFRESH-INTERVAL;VALUE=DURATION:PT1H
X-Robots-Tag:noindex
X-PUBLISHED-TTL:PT1H
BEGIN:VTIMEZONE
TZID:Europe/London
BEGIN:DAYLIGHT
TZOFFSETFROM:+0000
TZOFFSETTO:+0100
TZNAME:BST
DTSTART:20240331T010000
END:DAYLIGHT
BEGIN:STANDARD
TZOFFSETFROM:+0100
TZOFFSETTO:+0000
TZNAME:GMT
DTSTART:20241027T010000
END:STANDARD
BEGIN:DAYLIGHT
TZOFFSETFROM:+0000
TZOFFSETTO:+0100
TZNAME:BST
DTSTART:20250330T010000
END:DAYLIGHT
BEGIN:STANDARD
TZOFFSETFROM:+0100
TZOFFSETTO:+0000
TZNAME:GMT
DTSTART:20251026T010000
END:STANDARD
BEGIN:DAYLIGHT
TZOFFSETFROM:+0000
TZOFFSETTO:+0100
TZNAME:BST
DTSTART:20260329T010000
END:DAYLIGHT
BEGIN:STANDARD
TZOFFSETFROM:+0100
TZOFFSETTO:+0000
TZNAME:GMT
DTSTART:20261025T010000
END:STANDARD
BEGIN:DAYLIGHT
TZOFFSETFROM:+0000
TZOFFSETTO:+0100
TZNAME:BST
DTSTART:20270328T010000
END:DAYLIGHT
BEGIN:STANDARD
TZOFFSETFROM:+0100
TZOFFSETTO:+0000
TZNAME:GMT
DTSTART:20271031T010000
END:STANDARD
END:VTIMEZONE
BEGIN:VEVENT
DTSTART;TZID=Europe/London:20251220T080000
DTEND;TZID=Europe/London:20260613T170000
DTSTAMP:20260422T183233
CREATED:20241011T155228Z
LAST-MODIFIED:20250321T095321Z
UID:12572-1766217600-1781370000@westmidlandswimming.org.uk
SUMMARY:Swim England West Midland Swimming Development Programmes 2025-26
DESCRIPTION:We are excited to announce the return of the Regional Development Programme (RDP)\, and the Regional Distance Development Programme (RDDP). \nThis programme will be done by invitation. The RDP invites are based on long course 200IM rankings\, while the RDDP is 800m and 1500m Freestyle rankings\, in the long course season before the programme. \nYou can find out more information about the programme aims on the website\, here. \nPROVISIONAL DATES \n\nRDP & RDDP Camp 1: Saturday the 20th December 2025\nRDP & RDDP Camp 2: Saturday 28th February 2026\nRDP Camp 3: Saturday 13th June 2026\nRDDP Camp 3: TBC\n\n 
URL:https://westmidlandswimming.org.uk/event/swim-england-west-midland-development-programmes-2025-26/
CATEGORIES:Athlete Development,Swimming Development
ATTACH;FMTTYPE=image/jpeg:https://westmidlandswimming.org.uk/wp-content/uploads/2024/08/WM1A2271-edited-scaled.jpg
END:VEVENT
END:VCALENDAR