BEGIN:VCALENDAR
VERSION:2.0
PRODID:-//Swim England West Midlands - ECPv6.15.20//NONSGML v1.0//EN
CALSCALE:GREGORIAN
METHOD:PUBLISH
X-WR-CALNAME:Swim England West Midlands
X-ORIGINAL-URL:https://westmidlandswimming.org.uk
X-WR-CALDESC:Events for Swim England West Midlands
REFRESH-INTERVAL;VALUE=DURATION:PT1H
X-Robots-Tag:noindex
X-PUBLISHED-TTL:PT1H
BEGIN:VTIMEZONE
TZID:Europe/London
BEGIN:DAYLIGHT
TZOFFSETFROM:+0000
TZOFFSETTO:+0100
TZNAME:BST
DTSTART:20230326T010000
END:DAYLIGHT
BEGIN:STANDARD
TZOFFSETFROM:+0100
TZOFFSETTO:+0000
TZNAME:GMT
DTSTART:20231029T010000
END:STANDARD
BEGIN:DAYLIGHT
TZOFFSETFROM:+0000
TZOFFSETTO:+0100
TZNAME:BST
DTSTART:20240331T010000
END:DAYLIGHT
BEGIN:STANDARD
TZOFFSETFROM:+0100
TZOFFSETTO:+0000
TZNAME:GMT
DTSTART:20241027T010000
END:STANDARD
BEGIN:DAYLIGHT
TZOFFSETFROM:+0000
TZOFFSETTO:+0100
TZNAME:BST
DTSTART:20250330T010000
END:DAYLIGHT
BEGIN:STANDARD
TZOFFSETFROM:+0100
TZOFFSETTO:+0000
TZNAME:GMT
DTSTART:20251026T010000
END:STANDARD
BEGIN:DAYLIGHT
TZOFFSETFROM:+0000
TZOFFSETTO:+0100
TZNAME:BST
DTSTART:20260329T010000
END:DAYLIGHT
BEGIN:STANDARD
TZOFFSETFROM:+0100
TZOFFSETTO:+0000
TZNAME:GMT
DTSTART:20261025T010000
END:STANDARD
END:VTIMEZONE
BEGIN:VEVENT
DTSTART;TZID=Europe/London:20250629T000000
DTEND;TZID=Europe/London:20250629T235959
DTSTAMP:20260424T121252
CREATED:20250325T110406Z
LAST-MODIFIED:20250403T150909Z
UID:13114-1751155200-1751241599@westmidlandswimming.org.uk
SUMMARY:WMR Welfare Officer Conference 2025
DESCRIPTION:Save the Date! \nThe Regional Welfare Officer conference we are running on Sunday 29th June @ the Mercure Hotel\, West Brom. 9am – 5pm. \nIt is completely FREE of charge for welfare officers to attend & lunch and refreshments will be provided ☕️ \nThis will be a fantastic opportunity to get together\, network and ask any questions you have. We have teamed up with the Swim England safeguarding team to deliver the day & the schedule includes the following; the voice of the child\, welfare v safeguarding v code of conduct\, networking\, club hoppers and the legalities\, positive parenting and an introduction to the active partnership sport welfare officers and how they can support clubs. \nWe would love you to join us & see you there\, so please save the date & a sign up below 📣🙌🏼💫 \n Agenda \n Sign up form
URL:https://westmidlandswimming.org.uk/event/wmr-welfare-officer-conference-2025/
LOCATION:Mercure Birmingham West Hotel\, Birmingham Rd\, West Bromwich B70 6RS
CATEGORIES:Education,Governance
ATTACH;FMTTYPE=image/jpeg:https://westmidlandswimming.org.uk/wp-content/uploads/2024/07/WMRT0153-scaled.jpg
ORGANIZER;CN="Swim England West Midlands":MAILTO:westmidland@swimming.org
END:VEVENT
BEGIN:VEVENT
DTSTART;TZID=Europe/London:20250614T080000
DTEND;TZID=Europe/London:20250614T150000
DTSTAMP:20260424T121252
CREATED:20240912T145440Z
LAST-MODIFIED:20250328T123922Z
UID:12259-1749888000-1749913200@westmidlandswimming.org.uk
SUMMARY:Swim England West Midlands - Swimming Coach CPD 2025
DESCRIPTION:We are pleased to present the return of the Coaches CPD on Saturday the 14th June 2025\, 8:30-14:00\, at Sandwell Aquatics Centre. \nThe session will run alongside the Regional Development Programme\, where coaches can observe the programme and learn from others who are attending and delivering. They will be supported by Jo John\, who will give prompts\, seek feedback\, and answer any questions. \nFollowing this\, the coaches will enter a classroom session where they receive a presentation focused around their coaching journey\, and how to become a world class coach in their club. They will be given the opportunity to ask questions and contribute to discussions to support their learning. \nThe CPD is also an opportunity for coaches who are interested or already engaged in the county/ regional/ national pathway to find further information\, support\, and put themselves forward for consideration. \nThis will be led by Jo John\, Swim England’s Coach Development Manager. \nHot drinks and snacks will be provided! \n Sign up here – completely FREE\nClosing date 8th June\, 11:59pm.
URL:https://westmidlandswimming.org.uk/event/wmr-coach-cpd/
LOCATION:Sandwell Aquatics Centre
CATEGORIES:Coaches CPD,Education
ATTACH;FMTTYPE=image/jpeg:https://westmidlandswimming.org.uk/wp-content/uploads/2024/07/WS2B0677-scaled-e1725551945384.jpg
ORGANIZER;CN="Swim England West Midlands":MAILTO:westmidland@swimming.org
END:VEVENT
BEGIN:VEVENT
DTSTART;TZID=Europe/London:20250304T163000
DTEND;TZID=Europe/London:20250304T180000
DTSTAMP:20260424T121252
CREATED:20250210T150355Z
LAST-MODIFIED:20250210T150355Z
UID:12988-1741105800-1741111200@westmidlandswimming.org.uk
SUMMARY:East Midland Forum: Supporting Neuro-divergent Athletes in a Club Environment
DESCRIPTION:Swim England’s Head of Diversity and Inclusion\, Mike Hawkes\, will be leading a forum on supporting neuro-divergent athletes in the club environment. This will include discussion on managing challenging behaviour.  \nThis forum will be open to all but we would suggest it might be most relevant to Chairs\, Coaches and Welfare Officers. There will be the opportunity for questions and open discussion.  \nThis online forum will be held on Tuesday the 4th of March at 6.30pm via Teams\, and sign-up needs to be done in advance to receive the link to join: \n Sign-Up Survey
URL:https://westmidlandswimming.org.uk/event/east-midland-forum-supporting-neuro-divergent-athletes-in-a-club-environment/
CATEGORIES:Athlete Development,Coaches CPD,Education
ATTACH;FMTTYPE=image/jpeg:https://westmidlandswimming.org.uk/wp-content/uploads/2024/12/WM2B1369-scaled-e1764073645945.jpg
END:VEVENT
BEGIN:VEVENT
DTSTART;TZID=Europe/London:20241013T090000
DTEND;TZID=Europe/London:20241013T120000
DTSTAMP:20260424T121252
CREATED:20240731T144509Z
LAST-MODIFIED:20240905T152114Z
UID:11578-1728810000-1728820800@westmidlandswimming.org.uk
SUMMARY:Swim England Midlands Officials Para CPD
DESCRIPTION:  \nWe are excited to host our annual officials para-swimming CPD\, alongside the Para-Swimming Development Meet.\n\nThe Queens Diamond Jubilee Centre\nSunday 13th October 2024\n9:00-12:00\nMinimum J1 qualification\n\nSign up for the CPD here.
URL:https://westmidlandswimming.org.uk/event/officials-para-cpd/
LOCATION:The Queens Diamond Jubilee Centre\, CV225JL
CATEGORIES:Education,Officials CPD
ORGANIZER;CN="Swim England Midland Regions":MAILTO:midlands@swimming.org
END:VEVENT
END:VCALENDAR